BEGIN:VCALENDAR
VERSION:2.0
PRODID:-//ChamberMaster//Event Calendar 2.0//EN
METHOD:PUBLISH
X-PUBLISHED-TTL:P3D
REFRESH-INTERVAL:P3D
CALSCALE:GREGORIAN
BEGIN:VEVENT
DTSTART;VALUE=DATE:20130906
DTEND;VALUE=DATE:20130907
TRANSP:TRANSPARENT
X-MICROSOFT-CDO-ALLDAYEVENT:TRUE
SUMMARY:Save the Date! Chino Valley Chamber of Commmerce - Planning Retreat
DESCRIPTION:Chamber Planning Retreat
X-ALT-DESC;FMTTYPE=text/html:Chamber Planning Retreat
LOCATION:
UID:e.1511.383
SEQUENCE:3
DTSTAMP:20260421T223430Z
URL:https://business.chinovalleychamber.com/events/details/save-the-date-chino-valley-chamber-of-commmerce-planning-retreat-09-06-2013-383
END:VEVENT

END:VCALENDAR
