BEGIN:VCALENDAR
VERSION:2.0
PRODID:-//ChamberMaster//Event Calendar 2.0//EN
METHOD:PUBLISH
X-PUBLISHED-TTL:P3D
REFRESH-INTERVAL:P3D
CALSCALE:GREGORIAN
BEGIN:VEVENT
DTSTART:20250307T170000Z
DTEND:20250307T210000Z
X-MICROSOFT-CDO-ALLDAYEVENT:FALSE
SUMMARY:San Bernardino Valley College Job Fair presented by El Clasificado
DESCRIPTION:?? Employers want to participate in the job fair? Please email marketing@echispanicmedia.com for more information.\n\n \n\nJoin us at the San Bernardino Valley College Job Fair on March 7\, 2025\, from 9 AM - 1 PM\, and connect with top recruiters\, staffing agencies\, and top companies in Southern California looking to hire for a variety of positions. Whether you're seeking a job in warehouse operations\, driving\, office administration\, customer service\, or management\, this event is the perfect opportunity to meet employers face-to-face and take the next step in your career.\n\n \n\nWhat to Expect at the Job Fair\n\nMeet with employers who are actively hiring for full-time and part-time roles.\n\nNetwork with recruiters and staffing agencies looking to fill immediate openings.\n\nExplore job opportunities in logistics\, warehousing\, transportation\, office support\, and administrative roles.\n\nGet a chance to interview on the spot.
X-ALT-DESC;FMTTYPE=text/html:<p>?? Employers want to participate in the job fair? Please email marketing@echispanicmedia.com for more information.</p>\n\n<p>&nbsp\;</p>\n\n<p>Join us at the San Bernardino Valley College Job Fair on March 7\, 2025\, from 9 AM - 1 PM\, and connect with top recruiters\, staffing agencies\, and top companies in Southern California looking to hire for a variety of positions. Whether you&#39\;re seeking a job in warehouse operations\, driving\, office administration\, customer service\, or management\, this event is the perfect opportunity to meet employers face-to-face and take the next step in your career.</p>\n\n<p>&nbsp\;</p>\n\n<p>What to Expect at the Job Fair</p>\n\n<p>Meet with employers who are actively hiring for full-time and part-time roles.</p>\n\n<p>Network with recruiters and staffing agencies looking to fill immediate openings.</p>\n\n<p>Explore job opportunities in logistics\, warehousing\, transportation\, office support\, and administrative roles.</p>\n\n<p>Get a chance to interview on the spot.</p>\n
LOCATION:San Bernardino Valley College 701 South Mount Vernon Avenue San Bernardino\, CA 92410
UID:e.1511.6536
SEQUENCE:3
DTSTAMP:20260420T121501Z
URL:https://business.chinovalleychamber.com/events/details/san-bernardino-valley-college-job-fair-presented-by-el-clasificado-6536
END:VEVENT

END:VCALENDAR
