BEGIN:VCALENDAR
VERSION:2.0
PRODID:-//ChamberMaster//Event Calendar 2.0//EN
METHOD:PUBLISH
X-PUBLISHED-TTL:P3D
REFRESH-INTERVAL:P3D
CALSCALE:GREGORIAN
BEGIN:VEVENT
DTSTART:20130607T200000Z
DTEND:20130608T020000Z
X-MICROSOFT-CDO-ALLDAYEVENT:FALSE
SUMMARY:Sam's Club Open House
DESCRIPTION:Sam's Club\, Open House\n\nWe invite you to experience the value of membership during this event exclusively for our Partner Membership Program participants.\n\n\n\nNon-Members can shop with no up-charge  - Two Days Only!
X-ALT-DESC;FMTTYPE=text/html:Sam&#39\;s Club\, Open House<br />\nWe invite you to&nbsp\;experience&nbsp\;the value of membership during this event exclusively for our Partner Membership Program participants.<br />\n<br />\nNon-Members can shop with no up-charge&nbsp\; - Two Days Only!
LOCATION:3951 Grand Ave.\, Chino
UID:e.1511.327
SEQUENCE:3
DTSTAMP:20260422T024749Z
URL:https://business.chinovalleychamber.com/events/details/sam-s-club-open-house-06-07-2013-327
END:VEVENT

END:VCALENDAR
