BEGIN:VCALENDAR
VERSION:2.0
PRODID:-//ChamberMaster//Event Calendar 2.0//EN
METHOD:PUBLISH
X-PUBLISHED-TTL:P3D
REFRESH-INTERVAL:P3D
CALSCALE:GREGORIAN
BEGIN:VEVENT
DTSTART:20130307T193000Z
DTEND:20130307T213000Z
X-MICROSOFT-CDO-ALLDAYEVENT:FALSE
SUMMARY:Salute to Public Safety
DESCRIPTION:Honoring the Men and Women of our Fire\, Police and Sheriff's Departments
X-ALT-DESC;FMTTYPE=text/html:Honoring the Men and Women of our Fire\, Police and Sheriff&#39\;s Departments
LOCATION:Vellano Country Club 2441 Vellano Club Drive.\, Chino Hills\, CA 91709
UID:e.1511.46
SEQUENCE:3
DTSTAMP:20260422T072734Z
URL:https://business.chinovalleychamber.com/events/details/salute-to-public-safety-03-07-2013-46
END:VEVENT

END:VCALENDAR
