BEGIN:VCALENDAR
VERSION:2.0
PRODID:-//ChamberMaster//Event Calendar 2.0//EN
METHOD:PUBLISH
X-PUBLISHED-TTL:P3D
REFRESH-INTERVAL:P3D
CALSCALE:GREGORIAN
BEGIN:VEVENT
DTSTART:20140208T200000Z
DTEND:20140208T220000Z
X-MICROSOFT-CDO-ALLDAYEVENT:FALSE
SUMMARY:Salem Christian Homes - Chili Cook Off Fundraiser
DESCRIPTION:Salem Christian Homes - Chili Cook Off - Fundraiser\n\n\n\nA delicious interactive cook-off where everyone is the judge!\n\n\n\nAll proceeds raised will go directly towards the care and training of the 112 individuals who have developmental disabilities and live in one of Salem's 19 community homes.
X-ALT-DESC;FMTTYPE=text/html:<br />\n<span style="color:#b22222\;"><span style="font-size:14px\;"><strong><span style="font-family:verdana\;">Salem Christian Homes - Chili Cook Off - Fundraiser</span></strong></span></span><br />\n<br />\n<span style="color:#006400\;"><strong>A delicious interactive cook-off where everyone is the judge!</strong></span><br />\n<br />\n<strong>All proceeds raised will go directly towards the care and training of the 112 individuals who have developmental disabilities and live in one of Salem&#39\;s 19 community homes.</strong>
LOCATION:CrossPoint Church 6950 Edison Ave.\, Chino
UID:e.1511.512
SEQUENCE:3
DTSTAMP:20260421T164644Z
URL:https://business.chinovalleychamber.com/events/details/salem-christian-homes-chili-cook-off-fundraiser-02-08-2014-512
END:VEVENT

END:VCALENDAR
