BEGIN:VCALENDAR
VERSION:2.0
PRODID:-//ChamberMaster//Event Calendar 2.0//EN
METHOD:PUBLISH
X-PUBLISHED-TTL:P3D
REFRESH-INTERVAL:P3D
CALSCALE:GREGORIAN
BEGIN:VEVENT
DTSTART:20140510T154500Z
DTEND:20140510T183000Z
X-MICROSOFT-CDO-ALLDAYEVENT:FALSE
SUMMARY:Salem Christian Homes - 6th Annual 5K - RUN\, WALK\, & ROLL
DESCRIPTION:Salem Christian Homes 6th Annual 5K - RUN\, WALK & ROLL\n\n\n\nSalem's 6th Annual Event encourages families and all ages of Runners\, Walkers & Wheelchair Users to Participate!\n\n\n\nSame great cause - new location!
X-ALT-DESC;FMTTYPE=text/html:<br />\n<span style="font-size:16px\;"><span style="color:#006400\;"><strong>Salem Christian Homes&nbsp\;6th&nbsp\;Annual 5K&nbsp\;- RUN\, WALK &amp\; ROLL</strong></span></span><br />\n<br />\n<strong>Salem&#39\;s 6th Annual Event encourages families and all ages of Runners\, Walkers &amp\; Wheelchair Users to Participate!</strong><br />\n<br />\n<strong><span style="color:#006400\;">Same great cause - new location!</span></strong>
LOCATION:Ayala Park 14225 Central Ave.\, Chino 5K event is off College Park Ave.\, by soccer fields 11-15
UID:e.1511.569
SEQUENCE:3
DTSTAMP:20260421T123441Z
URL:https://business.chinovalleychamber.com/events/details/salem-christian-homes-6th-annual-5k-run-walk-roll-05-10-2014-569
END:VEVENT

END:VCALENDAR
