BEGIN:VCALENDAR
VERSION:2.0
PRODID:-//ChamberMaster//Event Calendar 2.0//EN
METHOD:PUBLISH
X-PUBLISHED-TTL:P3D
REFRESH-INTERVAL:P3D
CALSCALE:GREGORIAN
BEGIN:VEVENT
DTSTART:20140201T160000Z
DTEND:20140201T190000Z
X-MICROSOFT-CDO-ALLDAYEVENT:FALSE
SUMMARY:Run for Russ - Russ Miller Memorial 5K Run Community Walk and Pancake Breakfast
DESCRIPTION:The Community is Invited to the Annual - Run For Russ - Russ Miller Memorial 5K Run Community Walk and Pancake Breakfast\n\n\n\nThis community event serves as a tribute and honors the memory of fallen Police Officer Russ Miller\, who was killed in the line of duty by a drunk driver.\n\n\n\nThe race will start and end at the City of Chino Civic Center at the corner of Chino Avenue and Central Avenue. The route will be eastbound Chino Avenue\, southbound Magnolia Avenue\, westbound Schaefer Avenue and northbound Central Avenue.
X-ALT-DESC;FMTTYPE=text/html:<strong><span style="color:#b22222\;">The Community is Invited to the Annual - Run For Russ - Russ Miller Memorial 5K&nbsp\;Run&nbsp\;Community Walk and Pancake Breakfast</span></strong><br />\n<br />\n<strong>This community event serves as a tribute and honors the memory of fallen Police Officer Russ Miller\, who was killed in the line of duty by a drunk driver.</strong><br />\n<br />\n<span style="color:#800000\;"><strong>The race will start and end at the City of Chino Civic Center at the corner of Chino Avenue and Central Avenue. The route will be eastbound Chino Avenue\, southbound Magnolia Avenue\, westbound Schaefer Avenue and northbound Central Avenue.</strong></span>
LOCATION:Chino Civic Center 13220 Central Ave.\, Chino
UID:e.1511.519
SEQUENCE:3
DTSTAMP:20260421T153306Z
URL:https://business.chinovalleychamber.com/events/details/run-for-russ-russ-miller-memorial-5k-run-community-walk-and-pancake-breakfast-02-01-2014-519
END:VEVENT

END:VCALENDAR
