BEGIN:VCALENDAR
VERSION:2.0
PRODID:-//ChamberMaster//Event Calendar 2.0//EN
METHOD:PUBLISH
X-PUBLISHED-TTL:P3D
REFRESH-INTERVAL:P3D
CALSCALE:GREGORIAN
BEGIN:VEVENT
DTSTART:20130622T193000Z
DTEND:20130622T200000Z
X-MICROSOFT-CDO-ALLDAYEVENT:FALSE
SUMMARY:Ribbon Cutting with Sullivan Solar Power
DESCRIPTION:Join us for a ribbon cutting with Chino Valley Chamber of Commerce  after the Chino Valley Solar Program Luncheon.
X-ALT-DESC;FMTTYPE=text/html:Join us for a ribbon cutting with Chino Valley Chamber of Commerce &nbsp\;after the Chino Valley Solar Program Luncheon.&nbsp\;
LOCATION:McCoy Equestrian and Recreation Center
UID:e.1511.335
SEQUENCE:3
DTSTAMP:20260422T024912Z
URL:https://business.chinovalleychamber.com/events/details/ribbon-cutting-with-sullivan-solar-power-06-22-2013-335
END:VEVENT

END:VCALENDAR
