BEGIN:VCALENDAR
VERSION:2.0
PRODID:-//ChamberMaster//Event Calendar 2.0//EN
METHOD:PUBLISH
X-PUBLISHED-TTL:P3D
REFRESH-INTERVAL:P3D
CALSCALE:GREGORIAN
BEGIN:VEVENT
DTSTART:20131105T193000Z
DTEND:20131105T210000Z
X-MICROSOFT-CDO-ALLDAYEVENT:FALSE
SUMMARY:Ribbon Cutting - The Pub at Chino Hills - Ambassador Meeting
DESCRIPTION:Ribbon Cutting - The Pub at Chino Hills \n\nAmbassador Meeting (Chamber Members Only)
X-ALT-DESC;FMTTYPE=text/html:<span style="font-size:12px\;"><strong style="font-size: 14.399999618530273px\;">Ribbon Cutting - The Pub at Chino Hills&nbsp\;</strong></span><br />\n<strong style="font-size: 14.399999618530273px\;">Ambassador Meeting (Chamber Members Only)</strong><br />\n<br />\n
LOCATION:The Pub 5771 Pine Ave.\, Chino Hills
UID:e.1511.461
SEQUENCE:3
DTSTAMP:20260421T194107Z
URL:https://business.chinovalleychamber.com/events/details/ribbon-cutting-the-pub-at-chino-hills-ambassador-meeting-11-05-2013-461
END:VEVENT

END:VCALENDAR
