BEGIN:VCALENDAR
VERSION:2.0
PRODID:-//ChamberMaster//Event Calendar 2.0//EN
METHOD:PUBLISH
X-PUBLISHED-TTL:P3D
REFRESH-INTERVAL:P3D
CALSCALE:GREGORIAN
BEGIN:VEVENT
DTSTART:20131210T190000Z
DTEND:20131210T210000Z
X-MICROSOFT-CDO-ALLDAYEVENT:FALSE
SUMMARY:Ribbon Cutting - Shell Roofing Solutions
DESCRIPTION:You are cordially invited to attend our Ribbon Cutting Ceremony for SHELL ROOFING SOLUTIONS GROUP
X-ALT-DESC;FMTTYPE=text/html:<span style="font-size: 12px\;"><span style="color: rgb(139\, 69\, 19)\;"><strong>You are cordially invited to attend our Ribbon Cutting Ceremony for </strong></span><span style="color: rgb(0\, 128\, 0)\;"><strong>SHELL ROOFING SOLUTIONS GROUP</strong></span></span>
LOCATION:Shell Roofing Solutions 4790 Chino Ave.\, Ste. A\, Chino
UID:e.1511.474
SEQUENCE:3
DTSTAMP:20260421T181211Z
URL:https://business.chinovalleychamber.com/events/details/ribbon-cutting-shell-roofing-solutions-12-10-2013-474
END:VEVENT

END:VCALENDAR
