BEGIN:VCALENDAR
VERSION:2.0
PRODID:-//ChamberMaster//Event Calendar 2.0//EN
METHOD:PUBLISH
X-PUBLISHED-TTL:P3D
REFRESH-INTERVAL:P3D
CALSCALE:GREGORIAN
BEGIN:VEVENT
DTSTART:20130830T000000Z
DTEND:20130830T020000Z
X-MICROSOFT-CDO-ALLDAYEVENT:FALSE
SUMMARY:Ribbon Cutting - Open House - Edward Jones Investments - Jamie Harwood
DESCRIPTION:Ribbon Cutting - Open House
X-ALT-DESC;FMTTYPE=text/html:Ribbon Cutting - Open House
LOCATION:Edward Jones Investments\, Jamie Harwood 6921 Edison Ave.\, Suite B\, Chino (Southeast corner of Edison and Fern)
UID:e.1511.400
SEQUENCE:3
DTSTAMP:20260421T235847Z
URL:https://business.chinovalleychamber.com/events/details/ribbon-cutting-open-house-edward-jones-investments-jamie-harwood-08-29-2013-400
END:VEVENT

END:VCALENDAR
