BEGIN:VCALENDAR
VERSION:2.0
PRODID:-//ChamberMaster//Event Calendar 2.0//EN
METHOD:PUBLISH
X-PUBLISHED-TTL:P3D
REFRESH-INTERVAL:P3D
CALSCALE:GREGORIAN
BEGIN:VEVENT
DTSTART:20140109T173000Z
DTEND:20140109T183000Z
X-MICROSOFT-CDO-ALLDAYEVENT:FALSE
SUMMARY:Ribbon Cutting - McDonald's
DESCRIPTION:Ribbon Cutting - McDonald's\n\n\n\nCome Celebrate our new green*\n\n\n\n*Pursuing LEED Silver Certification\n\n\n\nLeadership in Energy and Environmental Design (LEED ) is an Internationally recognized green building certification system developed by the U.S. Green Building Council
X-ALT-DESC;FMTTYPE=text/html:Ribbon Cutting - McDonald&#39\;s<br />\n<br />\n<span style="color:#008000\;">Come Celebrate our new green*</span><br />\n<br />\n<span style="color:#008000\;">*Pursuing LEED Silver Certification<br />\n<br />\nLeadership in Energy and Environmental Design (LEED ) is an Internationally recognized green building certification system developed by the U.S. Green Building Council</span><br />\n<br />\n
LOCATION:McDonald's 12625 Central Ave.\, Chino
UID:e.1511.494
SEQUENCE:3
DTSTAMP:20260421T164954Z
URL:https://business.chinovalleychamber.com/events/details/ribbon-cutting-mcdonald-s-01-09-2014-494
END:VEVENT

END:VCALENDAR
