BEGIN:VCALENDAR
VERSION:2.0
PRODID:-//ChamberMaster//Event Calendar 2.0//EN
METHOD:PUBLISH
X-PUBLISHED-TTL:P3D
REFRESH-INTERVAL:P3D
CALSCALE:GREGORIAN
BEGIN:VEVENT
DTSTART:20130216T190000Z
DTEND:20130216T220000Z
X-MICROSOFT-CDO-ALLDAYEVENT:FALSE
SUMMARY:Ribbon Cutting\, Helping Children Rebuild Thrift Store
DESCRIPTION:Ribbon Cutting\, Helping Children Rebuild Thrift Store
X-ALT-DESC;FMTTYPE=text/html:Ribbon Cutting\, Helping Children Rebuild Thrift Store
LOCATION:12915 Central Ave Chino\, CA 91710 To be held at parking lot behind store
UID:e.1511.12
SEQUENCE:3
DTSTAMP:20260422T103444Z
URL:https://business.chinovalleychamber.com/events/details/ribbon-cutting-helping-children-rebuild-thrift-store-02-16-2013-12
END:VEVENT

END:VCALENDAR
