BEGIN:VCALENDAR
VERSION:2.0
PRODID:-//ChamberMaster//Event Calendar 2.0//EN
METHOD:PUBLISH
X-PUBLISHED-TTL:P3D
REFRESH-INTERVAL:P3D
CALSCALE:GREGORIAN
BEGIN:VEVENT
DTSTART:20240815T180000Z
DTEND:20240815T190000Z
X-MICROSOFT-CDO-ALLDAYEVENT:FALSE
SUMMARY:Ribbon Cutting: Heights Christian Schools
DESCRIPTION:Join us for the Ribbon Cutting for Heights Christian Schools on Thursday\, August 15th.
X-ALT-DESC;FMTTYPE=text/html:<span style="font-family:times new roman\;"><span style="font-family:tahoma\;"><span style="font-size:14px\;">Join us for the Ribbon Cutting for Heights Christian Schools on Thursday\, August 15th.</span></span></span>
LOCATION:Heights Christian Schools (14670 Ramona Avenue\, Chino\, CA 91710)
UID:e.1511.6223
SEQUENCE:3
DTSTAMP:20260420T054754Z
URL:https://business.chinovalleychamber.com/events/details/ribbon-cutting-heights-christian-schools-6223
END:VEVENT

END:VCALENDAR
