BEGIN:VCALENDAR
VERSION:2.0
PRODID:-//ChamberMaster//Event Calendar 2.0//EN
METHOD:PUBLISH
X-PUBLISHED-TTL:P3D
REFRESH-INTERVAL:P3D
CALSCALE:GREGORIAN
BEGIN:VEVENT
DTSTART:20140107T193000Z
DTEND:20140107T203000Z
X-MICROSOFT-CDO-ALLDAYEVENT:FALSE
SUMMARY:Ribbon Cutting - FISH-O-LICIOUS
DESCRIPTION:Ribbon Cutting - FISH-O-LICIOUS \n\n\n\nCOME AND TRY OUR FRESH SEAFOOD ~ YOU'LL LOVE IT!\n\n\n\n(Ambassadors' Meeting at 12:00 PM following Ribbon Cutting)
X-ALT-DESC;FMTTYPE=text/html:<br />\n<span style="font-family:verdana\;"><span style="color:#0000cd\;"><strong><span style="font-family:arial\;"><span style="font-size:14px\;">Ribbon Cutting </span></span>- <span style="font-size:14px\;">FISH-O-LICIOUS&nbsp\;</span></strong></span><br />\n<br />\n<span style="font-size:12px\;"><strong><span style="color:#008000\;">COME AND TRY OUR FRESH SEAFOOD ~ YOU&#39\;LL LOVE IT!</span></strong></span><br />\n<br />\n<span style="font-size:12px\;"><span style="color:#0000cd\;">(Ambassadors&#39\; Meeting at 12:00 PM following Ribbon Cutting)</span></span></span><br />\n<br />\n
LOCATION:FISH-O-LICIOUS (Chino Hills Market Place) 4200 Chino Hills Pkwy\, #115 Chino Hills
UID:e.1511.497
SEQUENCE:3
DTSTAMP:20260421T164321Z
URL:https://business.chinovalleychamber.com/events/details/ribbon-cutting-fish-o-licious-01-07-2014-497
END:VEVENT

END:VCALENDAR
