BEGIN:VCALENDAR
VERSION:2.0
PRODID:-//ChamberMaster//Event Calendar 2.0//EN
METHOD:PUBLISH
X-PUBLISHED-TTL:P3D
REFRESH-INTERVAL:P3D
CALSCALE:GREGORIAN
BEGIN:VEVENT
DTSTART:20131031T000000Z
DTEND:20131031T020000Z
X-MICROSOFT-CDO-ALLDAYEVENT:FALSE
SUMMARY:Ribbon Cutting - Eye Level Learning Center of Chino Hills
DESCRIPTION:You are invited to the Ribbon Cutting of Eye Level Learning Center in Chino Hills\n\n\n\nAt our Chino Hills Learning Center the Eye Level education starts with seeing things from your child's eye level.
X-ALT-DESC;FMTTYPE=text/html:<span style="font-size:14px\;"><strong>You are invited to the Ribbon Cutting of Eye Level Learning Center in Chino Hills<br />\n<br />\nAt our Chino Hills Learning Center the Eye Level education starts with seeing things from your child&rsquo\;s eye level.</strong></span>
LOCATION:14230 Chino Hills Pkwy.\, Suite G\, Chino Hills
UID:e.1511.454
SEQUENCE:3
DTSTAMP:20260421T223420Z
URL:https://business.chinovalleychamber.com/events/details/ribbon-cutting-eye-level-learning-center-of-chino-hills-10-30-2013-454
END:VEVENT

END:VCALENDAR
