BEGIN:VCALENDAR
VERSION:2.0
PRODID:-//ChamberMaster//Event Calendar 2.0//EN
METHOD:PUBLISH
X-PUBLISHED-TTL:P3D
REFRESH-INTERVAL:P3D
CALSCALE:GREGORIAN
BEGIN:VEVENT
DTSTART:20250213T223000Z
DTEND:20250213T233000Z
X-MICROSOFT-CDO-ALLDAYEVENT:FALSE
SUMMARY:Ribbon Cutting Ceremony - The Learning Experience Chino
DESCRIPTION:Join us for the Ribbon cutting ceremony of our Daycare/Preschool. The Learning Experience\, A warm and nurturing place where little learners can explore\, grow\, and thrive! \n\n \n\nEvent Details:\n\nDate: 02/13/25\n\nTime: 2:30 PM to 3:30 PM\n\nLocation: 12479 Central Ave.\, Chino\, CA 91710\n\n \n\nYour presence would mean so much to us as we celebrate this special day and highlight the importance of early childhood education in the City of Chino. Food will be served following the ribbon cutting ceremony. Come and Enjoy!!
X-ALT-DESC;FMTTYPE=text/html:<p class="x_gmail-p1" data-olk-copy-source="MessageBody" style="color: rgb(36\, 36\, 36)\; margin: 0px\; font-variant-numeric: normal\; font-variant-east-asian: normal\; font-variant-alternates: normal\; font-kerning: auto\; font-feature-settings: normal\; font-stretch: normal\; line-height: normal\; font-family: &quot\;Helvetica Neue&quot\;\;">Join us for the Ribbon cutting ceremony of our Daycare/Preschool. The Learning Experience\, A warm and nurturing place where little learners can explore\, grow\, and thrive!<span class="x_gmail-Apple-converted-space" style="border: 0px\; font: inherit\; margin: 0px\; padding: 0px\; vertical-align: baseline\; color: inherit\;">&nbsp\;</span></p>\n\n<p class="x_gmail-p2" style="color: rgb(36\, 36\, 36)\; margin: 0px\; font-variant-numeric: normal\; font-variant-east-asian: normal\; font-variant-alternates: normal\; font-kerning: auto\; font-feature-settings: normal\; font-stretch: normal\; line-height: normal\; font-family: &quot\;Helvetica Neue&quot\;\; min-height: 15px\;">&nbsp\;</p>\n\n<p class="x_gmail-p1" style="color: rgb(36\, 36\, 36)\; margin: 0px\; font-variant-numeric: normal\; font-variant-east-asian: normal\; font-variant-alternates: normal\; font-kerning: auto\; font-feature-settings: normal\; font-stretch: normal\; line-height: normal\; font-family: &quot\;Helvetica Neue&quot\;\;"><b>Event Details</b>:</p>\n\n<p class="x_gmail-p1" style="color: rgb(36\, 36\, 36)\; margin: 0px\; font-variant-numeric: normal\; font-variant-east-asian: normal\; font-variant-alternates: normal\; font-kerning: auto\; font-feature-settings: normal\; font-stretch: normal\; line-height: normal\; font-family: &quot\;Helvetica Neue&quot\;\;"><b>Date</b>: 02/13/25</p>\n\n<p class="x_gmail-p1" style="color: rgb(36\, 36\, 36)\; margin: 0px\; font-variant-numeric: normal\; font-variant-east-asian: normal\; font-variant-alternates: normal\; font-kerning: auto\; font-feature-settings: normal\; font-stretch: normal\; line-height: normal\; font-family: &quot\;Helvetica Neue&quot\;\;"><b>Time</b>: 2:30 PM to 3:30 PM</p>\n\n<p class="x_gmail-p1" style="color: rgb(36\, 36\, 36)\; margin: 0px\; font-variant-numeric: normal\; font-variant-east-asian: normal\; font-variant-alternates: normal\; font-kerning: auto\; font-feature-settings: normal\; font-stretch: normal\; line-height: normal\; font-family: &quot\;Helvetica Neue&quot\;\;"><b>Location</b>: 12479 Central Ave.\, Chino\, CA 91710</p>\n\n<p class="x_gmail-p2" style="color: rgb(36\, 36\, 36)\; margin: 0px\; font-variant-numeric: normal\; font-variant-east-asian: normal\; font-variant-alternates: normal\; font-kerning: auto\; font-feature-settings: normal\; font-stretch: normal\; line-height: normal\; font-family: &quot\;Helvetica Neue&quot\;\; min-height: 15px\;">&nbsp\;</p>\n\n<p class="x_gmail-p1" style="color: rgb(36\, 36\, 36)\; margin: 0px\; font-variant-numeric: normal\; font-variant-east-asian: normal\; font-variant-alternates: normal\; font-kerning: auto\; font-feature-settings: normal\; font-stretch: normal\; line-height: normal\; font-family: &quot\;Helvetica Neue&quot\;\;">Your presence would mean so much to us as we celebrate this special day and highlight the importance of early childhood education in the City of Chino. Food will be served following the ribbon cutting ceremony. Come and Enjoy!!<span class="x_gmail-Apple-converted-space" style="border: 0px\; font: inherit\; margin: 0px\; padding: 0px\; vertical-align: baseline\; color: inherit\;">&nbsp\;</span></p>\n\n<div>&nbsp\;</div>\n
LOCATION:12479 Central Avenue Chino\, CA 91710
UID:e.1511.6521
SEQUENCE:3
DTSTAMP:20260420T102712Z
URL:https://business.chinovalleychamber.com/events/details/ribbon-cutting-ceremony-the-learning-experience-chino-6521
END:VEVENT

END:VCALENDAR
