BEGIN:VCALENDAR
VERSION:2.0
PRODID:-//ChamberMaster//Event Calendar 2.0//EN
METHOD:PUBLISH
X-PUBLISHED-TTL:P3D
REFRESH-INTERVAL:P3D
CALSCALE:GREGORIAN
BEGIN:VEVENT
DTSTART:20131106T190000Z
DTEND:20131106T210000Z
X-MICROSOFT-CDO-ALLDAYEVENT:FALSE
SUMMARY:Ribbon Cutting - Central Care Physical Therapy
DESCRIPTION:Ribbon Cutting - Central Care Physical Therapy
X-ALT-DESC;FMTTYPE=text/html:<span style="color:#008080\;"><span style="font-size:14px\;"><strong>Ribbon Cutting - Central Care Physical Therapy</strong></span></span>
LOCATION:12598 Central Ave.\, Suite 102-A\, Chino
UID:e.1511.457
SEQUENCE:3
DTSTAMP:20260421T210307Z
URL:https://business.chinovalleychamber.com/events/details/ribbon-cutting-central-care-physical-therapy-11-06-2013-457
END:VEVENT

END:VCALENDAR
