BEGIN:VCALENDAR
VERSION:2.0
PRODID:-//ChamberMaster//Event Calendar 2.0//EN
METHOD:PUBLISH
X-PUBLISHED-TTL:P3D
REFRESH-INTERVAL:P3D
CALSCALE:GREGORIAN
BEGIN:VEVENT
DTSTART:20130627T180000Z
DTEND:20130627T200000Z
X-MICROSOFT-CDO-ALLDAYEVENT:FALSE
SUMMARY:Ribbon Cutting at Souvenir Entertainment
DESCRIPTION:Ribbon Cutting at Souvenir Entertainment
X-ALT-DESC;FMTTYPE=text/html:Ribbon Cutting at Souvenir Entertainment
LOCATION:13905 Ramona Ave.\, Suite H\, Chino
UID:e.1511.332
SEQUENCE:3
DTSTAMP:20260422T041845Z
URL:https://business.chinovalleychamber.com/events/details/ribbon-cutting-at-souvenir-entertainment-06-27-2013-332
END:VEVENT

END:VCALENDAR
