BEGIN:VCALENDAR
VERSION:2.0
PRODID:-//ChamberMaster//Event Calendar 2.0//EN
METHOD:PUBLISH
X-PUBLISHED-TTL:P3D
REFRESH-INTERVAL:P3D
CALSCALE:GREGORIAN
BEGIN:VEVENT
DTSTART:20130525T173000Z
DTEND:20130525T210000Z
X-MICROSOFT-CDO-ALLDAYEVENT:FALSE
SUMMARY:Ribbon Cutting at All Tune and Lube
DESCRIPTION:Ribbon Cutting at All Tune and Lube\, Total Car Care
X-ALT-DESC;FMTTYPE=text/html:Ribbon Cutting at All Tune and Lube\, Total Car Care
LOCATION:12365 Central Ave.\, Chino
UID:e.1511.317
SEQUENCE:3
DTSTAMP:20260422T042522Z
URL:https://business.chinovalleychamber.com/events/details/ribbon-cutting-at-all-tune-and-lube-05-25-2013-317
END:VEVENT

END:VCALENDAR
