BEGIN:VCALENDAR
VERSION:2.0
PRODID:-//ChamberMaster//Event Calendar 2.0//EN
METHOD:PUBLISH
X-PUBLISHED-TTL:P3D
REFRESH-INTERVAL:P3D
CALSCALE:GREGORIAN
BEGIN:VEVENT
DTSTART;VALUE=DATE:20131010
DTEND;VALUE=DATE:20131011
TRANSP:TRANSPARENT
X-MICROSOFT-CDO-ALLDAYEVENT:TRUE
SUMMARY:Ribbon Cutting
DESCRIPTION:All About You Couture Mobile Boutique \n\n\n\nPlease Join Us For A Ribbon Cutting Ceremony!\n\n\n\nCome enjoy a night of fun shopping\, music\, champagne and friends. This event is for every girl that loves to be glamorus.\n\n\n\nThe first 35 guests will receive a free gift from AAYCouture
X-ALT-DESC;FMTTYPE=text/html:<span style="color:#b22222\;"><strong>All About You Couture Mobile Boutique&nbsp\;</strong></span><br />\n<br />\nPlease Join Us For A Ribbon Cutting Ceremony!<br />\n<br />\nCome enjoy a night of fun shopping\, music\, champagne and friends. This event is for every girl that loves to be <span style="color:#800000\;"><span style="font-size:14px\;">glamorus.<br />\n<br />\n<span style="font-size:12px\;">The first 35 guests will receive a free gift from AAYCouture</span></span></span>
LOCATION:13065 Peyton Dr.\, #D Chino Hills
UID:e.1511.440
SEQUENCE:3
DTSTAMP:20260421T223058Z
URL:https://business.chinovalleychamber.com/events/details/ribbon-cutting-10-10-2013-440
END:VEVENT

END:VCALENDAR
