BEGIN:VCALENDAR
VERSION:2.0
PRODID:-//ChamberMaster//Event Calendar 2.0//EN
METHOD:PUBLISH
X-PUBLISHED-TTL:P3D
REFRESH-INTERVAL:P3D
CALSCALE:GREGORIAN
BEGIN:VEVENT
DTSTART:20141004T160000Z
DTEND:20141004T210000Z
X-MICROSOFT-CDO-ALLDAYEVENT:FALSE
SUMMARY:Ready\, Set\, Pull
DESCRIPTION:Ready\, Set\, Pull! On Saturday\, October 4\, 2014\, Ontario International Airport (ONT) and the Friends of Ontario Airport will host the 6th Annual Plane Pull Competition\, a "Pull for Our Heroes" benefiting the Ontario USO. Please find the attached flyer with information on the event to post for those with interest in attending as a participant\, exhibitor or a spectator at this exciting event! We hope you will consider being a part of ONT's "Pull for Our Heroes." Last year's event attracted over 650 participants and attendees\, and we anticipate a larger crowd this year. If you have further questions or are interested in joining the event\, please call the Community & Public Relations Division at (909) 544-5360 or by e-mail at ONTAirportRep@lawa.org. Thank you in advance for your support of ONT?s community outreach efforts. ONT Community and Public Relations Office: (909) 544-5360 Fax: (909) 544-5612 www.lawa.org
X-ALT-DESC;FMTTYPE=text/html:Ready\, Set\, Pull! On Saturday\, October 4\, 2014\, Ontario International Airport (ONT) and the Friends of Ontario Airport will host the 6th Annual Plane Pull Competition\, a &quot\;Pull for Our Heroes&quot\; benefiting the Ontario USO. Please find the attached flyer with information on the event to post for those with interest in attending as a participant\, exhibitor or a spectator at this exciting event! We hope you will consider being a part of ONT&#39\;s &quot\;Pull for Our Heroes.&quot\; Last year&#39\;s event attracted over 650 participants and attendees\, and we anticipate a larger crowd this year. If you have further questions or are interested in joining the event\, please call the Community &amp\; Public Relations Division at (909) 544-5360 or by e-mail at ONTAirportRep@lawa.org. Thank you in advance for your support of ONT?s community outreach efforts. ONT Community and Public Relations Office: (909) 544-5360 Fax: (909) 544-5612 www.lawa.org
LOCATION:1940 E. Moore Way Ontario\, CA 91761
UID:e.1511.660
SEQUENCE:3
DTSTAMP:20260421T081524Z
URL:https://business.chinovalleychamber.com/events/details/ready-set-pull-10-04-2014-660
END:VEVENT

END:VCALENDAR
