BEGIN:VCALENDAR
VERSION:2.0
PRODID:-//ChamberMaster//Event Calendar 2.0//EN
METHOD:PUBLISH
X-PUBLISHED-TTL:P3D
REFRESH-INTERVAL:P3D
CALSCALE:GREGORIAN
BEGIN:VEVENT
DTSTART:20130815T220000Z
DTEND:20130816T030000Z
X-MICROSOFT-CDO-ALLDAYEVENT:FALSE
SUMMARY:Rancho del Chino Rotary Club Presents Its - 3rd Annual "SKEET & EET Fundraiser
DESCRIPTION:3rd Annual "SKEET & EET" Fundraiser\n\n\n\nEvent Includes: Single Shooting Event\; Team Shooting Competition\n\nShotguns Available\, Plus 50 Clay Targets & 50 Shotgun Rounds\; Dinner\; 1 Free Photo\; Prizes & Raffles\n\n\n\nAll Proceeds Will Benefit The Rancho del Chino Rotary Club Community Programs\n\n\n\nMust Be 10 Years Or Older To Shoot!
X-ALT-DESC;FMTTYPE=text/html:3rd Annual &quot\;SKEET &amp\; EET&quot\; Fundraiser<br />\n<br />\nEvent Includes: Single Shooting Event\; Team Shooting Competition<br />\nShotguns Available\, Plus 50 Clay Targets &amp\; 50 Shotgun Rounds\; Dinner\; 1 Free Photo\; Prizes &amp\; Raffles<br />\n<br />\nAll Proceeds Will Benefit The Rancho del Chino Rotary Club Community Programs<br />\n<br />\nMust Be 10 Years Or Older To Shoot!
LOCATION:Mike Raahauge's Shooting Range 14995 River Road Corona\, CA 92880
UID:e.1511.398
SEQUENCE:3
DTSTAMP:20260421T235500Z
URL:https://business.chinovalleychamber.com/events/details/rancho-del-chino-rotary-club-presents-its-3rd-annual-skeet-eet-fundraiser-08-15-2013-398
END:VEVENT

END:VCALENDAR
