BEGIN:VCALENDAR
VERSION:2.0
PRODID:-//ChamberMaster//Event Calendar 2.0//EN
METHOD:PUBLISH
X-PUBLISHED-TTL:P3D
REFRESH-INTERVAL:P3D
CALSCALE:GREGORIAN
BEGIN:VEVENT
DTSTART:20131219T190000Z
DTEND:20131219T200000Z
X-MICROSOFT-CDO-ALLDAYEVENT:FALSE
SUMMARY:PVW - 3rd Annual Holiday Showcase
DESCRIPTION:PVW's Adult Development Center (ADC) \n\nAnd "Round About Senior Services (RASS)\n\nCordially Invite You to Our - 3rd Annual Holiday Showcase\n\nFeaturing "A Charlie Brown Christmas"\n\n\n\nBaked Goods\, Beverages\, and Assorted Hand Crafted Gifts will be available for purchase. All proceeds support the RASS and ADC programs
X-ALT-DESC;FMTTYPE=text/html:<strong><span style="color:#000080\;">PVW&#39\;s </span>Adult Development Center (ADC)&nbsp\;<br />\nAnd &quot\;Round About Senior Services (RASS)<br />\nCordially Invite You to Our - <span style="color:#ff0000\;">3rd Annual Holiday Showcase</span><br />\nFeaturing<span style="color:#33cc33\;"> </span><span style="color:#669900\;">&quot\;A Charlie Brown Christmas&quot\;</span><br />\n<br />\nBaked Goods\, Beverages\, and Assorted Hand Crafted Gifts will be available for purchase. All proceeds support the RASS and ADC programs</strong>
LOCATION:Round About Senior Services 4669 Holt Blvd.\, Montclair\, CA 91763
UID:e.1511.472
SEQUENCE:3
DTSTAMP:20260421T182120Z
URL:https://business.chinovalleychamber.com/events/details/pvw-3rd-annual-holiday-showcase-12-19-2013-472
END:VEVENT

END:VCALENDAR
