BEGIN:VCALENDAR
VERSION:2.0
PRODID:-//ChamberMaster//Event Calendar 2.0//EN
METHOD:PUBLISH
X-PUBLISHED-TTL:P3D
REFRESH-INTERVAL:P3D
CALSCALE:GREGORIAN
BEGIN:VEVENT
DTSTART:20131116T153000Z
DTEND:20131116T210000Z
X-MICROSOFT-CDO-ALLDAYEVENT:FALSE
SUMMARY:"Pull For Our Heroes" Plane Pull Competition
DESCRIPTION:Ontario International Airport (ONT) and athe Friends of Ontario Airport will host the 5th Annual Plane Pull Competition\, a "Pull for Our Heroes" benefiting the Ontario USO\, onSaturday\, November 16th. Those interested in attending as a participant\, exhibitor or as a spectator at this exciting event\, contact the Community & Public Relations office at (909) 544-5360 or by e-mail at ONTAirportRep@lawa.org.
X-ALT-DESC;FMTTYPE=text/html:Ontario International Airport (ONT) and athe Friends of Ontario Airport will host the 5th Annual Plane Pull Competition\, a &quot\;Pull for Our Heroes&quot\; benefiting the Ontario USO\, onSaturday\, November 16th. Those interested in attending as a participant\, exhibitor or as a spectator at this exciting event\, contact the Community &amp\; Public Relations office at (909) 544-5360 or by e-mail at ONTAirportRep@lawa.org. 
LOCATION:Ontario International Airport Terminal 1 (tarmac) 1940 E. Moore Way\, Ontario\, CA (Vineyard Ave. and Airport Dr.)
UID:e.1511.445
SEQUENCE:3
DTSTAMP:20260421T210240Z
URL:https://business.chinovalleychamber.com/events/details/pull-for-our-heroes-plane-pull-competition-11-16-2013-445
END:VEVENT

END:VCALENDAR
