BEGIN:VCALENDAR
VERSION:2.0
PRODID:-//ChamberMaster//Event Calendar 2.0//EN
METHOD:PUBLISH
X-PUBLISHED-TTL:P3D
REFRESH-INTERVAL:P3D
CALSCALE:GREGORIAN
BEGIN:VEVENT
DTSTART:20140419T140000Z
DTEND:20140419T180000Z
X-MICROSOFT-CDO-ALLDAYEVENT:FALSE
SUMMARY:Pomona Valley Workshop Presents - The Sandi Spetnagel Annual Fun Run/Walk at FairPlex
DESCRIPTION:The Sandy Spetnagel Annual Fun Run/Walk - To Support PVW's Programs For Adults With Disabilities\n\n\n\nAll Run/Walk Participants will receive a commemorative event t-shirt\, goodie bag and participation medal\n\n\n\nJoin In The Fun... Wear Your Favorite Bunny Ears or Easter Bonnet\n\nPrizes will be awarded for the best Bunny and Bonnet!
X-ALT-DESC;FMTTYPE=text/html:<span style="font-family:arial\;"><span style="color:#FF0000\;"><strong>The Sandy&nbsp\;Spetnagel Annual Fun Run/Walk -&nbsp\;To Support PVW&#39\;s Programs For Adults With Disabilities</strong></span><br />\n<br />\n<strong><span style="color:#0000CD\;">All Run/Walk Participants will receive&nbsp\;a commemorative&nbsp\;event t-shirt\, goodie bag and participation medal</span><br />\n<br />\n<span style="color:#FF0000\;">Join In The Fun... Wear Your Favorite Bunny Ears or Easter Bonnet<br />\nPrizes will be awarded for the best Bunny and Bonnet!</span></strong></span>
LOCATION:FairPlex (Enter at Gate 17\, No Charge for Parking) 1101 W. McKinley Ave.\, Pomona 91768
UID:e.1511.549
SEQUENCE:3
DTSTAMP:20260421T123559Z
URL:https://business.chinovalleychamber.com/events/details/pomona-valley-workshop-presents-the-sandi-spetnagel-annual-fun-run-walk-at-fairplex-04-19-2014-549
END:VEVENT

END:VCALENDAR
