BEGIN:VCALENDAR
VERSION:2.0
PRODID:-//ChamberMaster//Event Calendar 2.0//EN
METHOD:PUBLISH
X-PUBLISHED-TTL:P3D
REFRESH-INTERVAL:P3D
CALSCALE:GREGORIAN
BEGIN:VEVENT
DTSTART;VALUE=DATE:20140909
DTEND;VALUE=DATE:20140910
TRANSP:TRANSPARENT
X-MICROSOFT-CDO-ALLDAYEVENT:TRUE
SUMMARY:Pomona Valley Hospital Medical Center - Vote for Pink Glove Dance - September 9th to September 23rd
DESCRIPTION:Vote for Pomona Valley Hospital Medical Center's - Pink Glove Dance Contest for Breast Care Awareness\n\n\n\nVote\n\nonce a day\, each day per email address from September 9th - September 23rd \n\n\n\nVisit pinkglovedance.com to cast your votes\n\n\n\nThe hospital with the most votes\, WINS!\n\n\n\nClick Here to View Full-Size PDF
X-ALT-DESC;FMTTYPE=text/html:<span style="font-size:16px\;"><strong>Vote for Pomona Valley Hospital Medical Center&#39\;s - Pink Glove Dance Contest for Breast Care Awareness</strong></span><br />\n<br />\n<span style="color:#cc0033\;"><span style="font-size:16px\;"><strong>Vote<br />\nonce a day\, each day per email address from September 9th&nbsp\;- September 23rd&nbsp\;</strong></span></span><br />\n<br />\n<span style="font-size:16px\;"><strong>Visit <span style="color:#ff66cc\;">pinkglovedance.com</span>&nbsp\;to cast your votes</strong></span><br />\n<br />\n<span style="font-size:18px\;"><strong>The hospital with the most votes\, WINS!</strong><br />\n<br />\n<a href="http://cloud.chambermaster.com/userfiles/UserFiles/chambers/1511/File/PVHMCPinkGloveDance2.pdf"><span style="font-size:14px\;">Click Here to View Full-Size PDF</span></a></span><br />\n&nbsp\;
LOCATION:Click Here to View Full-Size PDF
UID:e.1511.669
SEQUENCE:3
DTSTAMP:20260421T095224Z
URL:https://business.chinovalleychamber.com/events/details/pomona-valley-hospital-medical-center-vote-for-pink-glove-dance-september-9th-to-september-23rd-09-09-2014-669
END:VEVENT

END:VCALENDAR
