BEGIN:VCALENDAR
VERSION:2.0
PRODID:-//ChamberMaster//Event Calendar 2.0//EN
METHOD:PUBLISH
X-PUBLISHED-TTL:P3D
REFRESH-INTERVAL:P3D
CALSCALE:GREGORIAN
BEGIN:VEVENT
DTSTART:20140222T180000Z
DTEND:20140222T220000Z
X-MICROSOFT-CDO-ALLDAYEVENT:FALSE
SUMMARY:Pomona Valley Hospital Medical Center and the Chino Valley Fire District Present the Chino Valley CPR Challenge
DESCRIPTION:February is National Heart Month Join Pomona Valley Hospital Medical Center and the Chino Valley Fire District as they present the Chino Valley CPR Challenge\n\n\n\nLearn Hands Only CPR from the experts. The life you save could be that of a loved one.\n\n\n\nThis is an American Heart Association approved event.
X-ALT-DESC;FMTTYPE=text/html:<strong><span style="color:#800000\;">February is National Heart Month&nbsp\;Join&nbsp\;Pomona Valley Hospital Medical Center and the Chino Valley Fire District as they present the Chino Valley CPR Challenge</span><br />\n<br />\n<span style="color:#800000\;">Learn Hands Only CPR from the experts. The life you save could be that of a loved one.</span><br />\n<br />\n<span style="color:#b22222\;">This is an American Heart Association approved event.</span></strong>
LOCATION:The Shoppes at Chino Hills on the Promenade (Near Barnes & Nobles Booksellers) 13920 City Center Drive\, Suite 200\, Chino Hills
UID:e.1511.530
SEQUENCE:3
DTSTAMP:20260421T152934Z
URL:https://business.chinovalleychamber.com/events/details/pomona-valley-hospital-medical-center-and-the-chino-valley-fire-district-present-the-chino-valley-cpr-challenge-02-22-2014-530
END:VEVENT

END:VCALENDAR
