BEGIN:VCALENDAR
VERSION:2.0
PRODID:-//ChamberMaster//Event Calendar 2.0//EN
METHOD:PUBLISH
X-PUBLISHED-TTL:P3D
REFRESH-INTERVAL:P3D
CALSCALE:GREGORIAN
BEGIN:VEVENT
DTSTART:20140214T010000Z
DTEND:20140214T040000Z
X-MICROSOFT-CDO-ALLDAYEVENT:FALSE
SUMMARY:Pomona Valley Hospital Medical Center and Sleep Number Presents Power of Sleep
DESCRIPTION:Pomona Valley Hospital Medical Center and Sleep Number Presents Power of Sleep in conjunction with the Power of Red Campaign for National Heart Month.\n\n\n\nHeather L. Davis-Kingston\, M.D.\, will speak on "Women and Sleep." Dr. Davis is a member of the American Academy of Sleep Medicine. She specializes in Internal Medicine\, Pulmonary Medicine and Critical Care and regularly sees patients with\n\ninsomnia\, narcolepsy and obstructive sleep apnea.\n\n\n	\n		Appetizers will be provided by RA\, Sushi Bar Restaurant
X-ALT-DESC;FMTTYPE=text/html:<br />\n<span style="color: rgb(128\, 0\, 0)\;"><strong><span style="font-family: verdana\;">Pomona Valley Hospital Medical Center and Sleep Number Presents Power of Sleep in conjunction with the Power of Red Campaign for National Heart Month.</span></strong></span><br />\n<br />\n<span style="color: rgb(0\, 0\, 0)\;"><strong>Heather L. Davis-Kingston\, M.D.\, will speak on &quot\;Women and Sleep.&quot\; Dr. Davis is a member of the American Academy of Sleep Medicine. She specializes in Internal Medicine\, Pulmonary Medicine and Critical Care and regularly sees patients with<br />\ninsomnia\, narcolepsy and obstructive sleep apnea.</strong></span><br />\n<ul>\n	<li>\n		<span style="color: rgb(128\, 0\, 0)\;"><strong>Appetizers will be provided by RA\,&nbsp\;Sushi&nbsp\;Bar&nbsp\;Restaurant</strong></span></li>\n</ul>\n
LOCATION:Sleep Number (located in The Shoppes at Chino Hills) 13855 City Center Drive\, Ste. 3025 Chino Hills
UID:e.1511.517
SEQUENCE:3
DTSTAMP:20260421T153102Z
URL:https://business.chinovalleychamber.com/events/details/pomona-valley-hospital-medical-center-and-sleep-number-presents-power-of-sleep-02-13-2014-517
END:VEVENT

END:VCALENDAR
