BEGIN:VCALENDAR
VERSION:2.0
PRODID:-//ChamberMaster//Event Calendar 2.0//EN
METHOD:PUBLISH
X-PUBLISHED-TTL:P3D
REFRESH-INTERVAL:P3D
CALSCALE:GREGORIAN
BEGIN:VEVENT
DTSTART:20140503T150000Z
DTEND:20140504T230000Z
X-MICROSOFT-CDO-ALLDAYEVENT:FALSE
SUMMARY:Planes of Fame Airshow - Chino Airport
DESCRIPTION:Planes of Fame - Airshow  - A Salute to the Mighty Eighth\n\n\n\n8th Air Force Tribute: P-51's\, P-47's\, B-17's & C-47 Paratrooper Drop\n\n\n\nRob Harrison Tumbling Bear Aerobatics - Pacific\, European & Korean Flight Displays - Sanders Sea Fury Aerobatics - Military Vehicles & 40+ WWll Aircraft - Clay Lacy Learjet Aerobatics - Veterans Panel Discussions - Food & Vendors - Kids Zone
X-ALT-DESC;FMTTYPE=text/html:<span style="font-size:16px\;"><span style="color:#FF0000\;"><strong>Planes of Fame - Airshow &#8203\;</strong></span>-<span style="color:#000080\;"><strong>&nbsp\;</strong></span><span style="color:#0000CD\;"><strong>A Salute to the Mighty Eighth</strong></span></span><br />\n<br />\n<strong>8th Air Force Tribute: P-51&#39\;s\, P-47&#39\;s\, B-17&#39\;s &amp\; C-47 Paratrooper Drop</strong><br />\n<br />\n<strong>Rob Harrison Tumbling Bear Aerobatics - Pacific\, European &amp\; Korean Flight Displays - Sanders Sea Fury Aerobatics - Military Vehicles &amp\; 40+ WWll Aircraft - Clay Lacy Learjet Aerobatics - Veterans&nbsp\;Panel Discussions - Food &amp\; Vendors - Kids Zone</strong>
LOCATION:Chino Airport 7000 Merrill Ave. Chino\, 91710
UID:e.1511.557
SEQUENCE:3
DTSTAMP:20260421T112809Z
URL:https://business.chinovalleychamber.com/events/details/planes-of-fame-airshow-chino-airport-05-03-2014-557
END:VEVENT

END:VCALENDAR
