BEGIN:VCALENDAR
VERSION:2.0
PRODID:-//ChamberMaster//Event Calendar 2.0//EN
METHOD:PUBLISH
X-PUBLISHED-TTL:P3D
REFRESH-INTERVAL:P3D
CALSCALE:GREGORIAN
BEGIN:VEVENT
DTSTART:20130307T180000Z
DTEND:20130307T220000Z
X-MICROSOFT-CDO-ALLDAYEVENT:FALSE
SUMMARY:Pacifica Senior Living Hillsborough 2013 Health Fair
DESCRIPTION:Health Fair
X-ALT-DESC;FMTTYPE=text/html:Health Fair
LOCATION:Pacifica Senior Living Hillsborough 11918 Central Ave.\, Chino\, 91710
UID:e.1511.48
SEQUENCE:3
DTSTAMP:20260422T073541Z
URL:https://business.chinovalleychamber.com/events/details/pacifica-senior-living-hillsborough-2013-health-fair-03-07-2013-48
END:VEVENT

END:VCALENDAR
