BEGIN:VCALENDAR
VERSION:2.0
PRODID:-//ChamberMaster//Event Calendar 2.0//EN
METHOD:PUBLISH
X-PUBLISHED-TTL:P3D
REFRESH-INTERVAL:P3D
CALSCALE:GREGORIAN
BEGIN:VEVENT
DTSTART:20260528T180000Z
DTEND:20260528T210000Z
X-MICROSOFT-CDO-ALLDAYEVENT:FALSE
SUMMARY:Orel Hershiser Chevrolet Grand Opening & Ribbon Cutting Ceremony
DESCRIPTION:Join us for a special Grand Opening and Ribbon Cutting celebration welcoming Orel Hershiser Chevrolet to the Chino business community.\n\nOn Thursday\, May 28\, from 11:00 AM to 2:00 PM at Chino City Hall\, we will gather to celebrate the opening of a dealership led by a name recognized for professionalism\, leadership\, and a legacy of excellence. Orel Hershiser's impact on and off the field has earned the respect of generations\, and we are honored to welcome his team to Chino.\n\nGuests will enjoy an exciting afternoon featuring Dodgers players in attendance\, community leaders\, local businesses\, and residents coming together for this milestone occasion. The official ribbon cutting ceremony will mark the beginning of an exciting new chapter for Orel Hershiser Chevrolet and another strong investment in our local economy.\n\nThis celebration reflects the continued growth of Chino and the strong partnerships that help our community thrive. We are proud to welcome Orel Hershiser Chevrolet and look forward to their success for years to come.\n\nEvent Details\n\nThursday\, May 28\n\n11:00 AM   2:00 PM\n\nChino City Hall\n\n13220 Central Avenue\n\nPlease join us as we celebrate this exciting addition to our community.\n\n\n\nThis event is free to attend. We kindly ask that you register in advance so we can plan accordingly and ensure an accurate guest count.
X-ALT-DESC;FMTTYPE=text/html:<p data-end="134" data-start="0" style="caret-color: rgb(0\, 0\, 0)\; color: rgb(0\, 0\, 0)\;">Join us for a special Grand Opening and Ribbon Cutting celebration welcoming Orel Hershiser Chevrolet to the Chino business community.</p>\n\n<p data-end="476" data-start="136" style="caret-color: rgb(0\, 0\, 0)\; color: rgb(0\, 0\, 0)\;">On Thursday\, May 28\, from 11:00 AM to 2:00 PM at Chino City Hall\, we will gather to celebrate the opening of a dealership led by a name recognized for professionalism\, leadership\, and a legacy of excellence. Orel Hershiser&rsquo\;s impact on and off the field has earned the respect of generations\, and we are honored to welcome his team to Chino.</p>\n\n<p data-end="823" data-start="478" style="caret-color: rgb(0\, 0\, 0)\; color: rgb(0\, 0\, 0)\;">Guests will enjoy an exciting afternoon featuring Dodgers players in attendance\, community leaders\, local businesses\, and residents coming together for this milestone occasion. The official ribbon cutting ceremony will mark the beginning of an exciting new chapter for Orel Hershiser Chevrolet and another strong investment in our local economy.</p>\n\n<p data-end="1042" data-start="825" style="caret-color: rgb(0\, 0\, 0)\; color: rgb(0\, 0\, 0)\;">This celebration reflects the continued growth of Chino and the strong partnerships that help our community thrive. We are proud to welcome Orel Hershiser Chevrolet and look forward to their success for years to come.</p>\n\n<p data-end="1119" data-start="1044" style="caret-color: rgb(0\, 0\, 0)\; color: rgb(0\, 0\, 0)\;"><strong data-end="1061" data-start="1044">Event Details</strong><br data-end="1064" data-start="1061" />\nThursday\, May 28<br data-end="1083" data-start="1080" />\n11:00 AM &ndash\; 2:00 PM<br data-end="1104" data-start="1101" />\nChino City Hall<br />\n13220 Central Avenue</p>\n\n<p data-end="1192" data-is-last-node="" data-is-only-node="" data-start="1121" style="caret-color: rgb(0\, 0\, 0)\; color: rgb(0\, 0\, 0)\;">Please join us as we celebrate this exciting addition to our community.<br />\n<br />\n<span style="caret-color: rgb(0\, 0\, 0)\; color: rgb(0\, 0\, 0)\; font-size: medium\;">This event is free to attend. We kindly ask that you register in advance so we can plan accordingly and ensure an accurate guest count.</span></p>\n
LOCATION:Chino City Hall 13220 Central Avenue
UID:e.1511.8275
SEQUENCE:3
DTSTAMP:20260421T091852Z
URL:https://business.chinovalleychamber.com/events/details/orel-hershiser-chevrolet-grand-opening-ribbon-cutting-ceremony-8275
END:VEVENT

END:VCALENDAR
