BEGIN:VCALENDAR
VERSION:2.0
PRODID:-//ChamberMaster//Event Calendar 2.0//EN
METHOD:PUBLISH
X-PUBLISHED-TTL:P3D
REFRESH-INTERVAL:P3D
CALSCALE:GREGORIAN
BEGIN:VEVENT
DTSTART:20140517T210000Z
DTEND:20140517T230000Z
X-MICROSOFT-CDO-ALLDAYEVENT:FALSE
SUMMARY:Open House - Eye Level of Chino Hills
DESCRIPTION:OPEN HOUSE - Eye Level of Chino Hills\n\n\n\nFun Activities\, Raffle & Snacks
X-ALT-DESC;FMTTYPE=text/html:<br />\n<strong><span style="color:#FF0000\;"><span style="font-family:verdana\;">OPEN HOUSE - Eye Level of Chino Hills</span></span></strong><br />\n<br />\n<span style="color:#0000CD\;"><strong>Fun Activities\, Raffle &amp\; Snacks</strong></span>
LOCATION:Eye Level of Chino Hills 14230 Chino Hills Pkwy. Ste.G\, Chino Hills (Corner Grand & Chino Hills Pkwy)
UID:e.1511.581
SEQUENCE:3
DTSTAMP:20260421T111152Z
URL:https://business.chinovalleychamber.com/events/details/open-house-eye-level-of-chino-hills-05-17-2014-581
END:VEVENT

END:VCALENDAR
