BEGIN:VCALENDAR
VERSION:2.0
PRODID:-//ChamberMaster//Event Calendar 2.0//EN
METHOD:PUBLISH
X-PUBLISHED-TTL:P3D
REFRESH-INTERVAL:P3D
CALSCALE:GREGORIAN
BEGIN:VEVENT
DTSTART:20160121T000000Z
DTEND:20160121T020000Z
X-MICROSOFT-CDO-ALLDAYEVENT:FALSE
SUMMARY:Oakmont of Chino Hills
DESCRIPTION:Oakmont of Chino Hills cordially invites you to\n\n\n\nWine'd Down After Work\n\n\n\nEnjoy wine and delicious hors d'oeuvres prepared by our notable culinary team.\n\n\n\nTake a tour of our beautiful senior living community and see for yourself why Oakmont is more than just a home.\n\n\n\nKindly RSVP by Monday\, January 18th to\n\n909-285-9933\, as space is limited
X-ALT-DESC;FMTTYPE=text/html:<br />\n<span style="font-size: 16px\;"><span style="color: rgb(0\, 0\, 255)\;"><strong>Oakmont of Chino Hills cordially invites you to</strong></span></span><br />\n<br />\n<span style="font-size: 18px\;"><span style="color: rgb(255\, 0\, 0)\;"><strong>Wine&#39\;d Down After Work</strong></span></span><br />\n<br />\n<strong>Enjoy wine and delicious hors d&#39\;oeuvres prepared by our notable culinary team.</strong><br />\n<br />\n<strong>Take a tour of our beautiful senior living community and see for yourself why Oakmont is more than just a home.</strong><br />\n<br />\n<span style="color: rgb(0\, 0\, 255)\;"><strong><span style="font-size: 16px\;">Kindly RSVP by Monday\, January 18th to<br />\n909-285-9933\, as space is limited</span></strong></span>
LOCATION:Oakmont of Chino Hills 14837 Peyton Drive Chino Hills\, CA 91709
UID:e.1511.1058
SEQUENCE:3
DTSTAMP:20260420T084402Z
URL:https://business.chinovalleychamber.com/events/details/oakmont-of-chino-hills-01-20-2016-1058
END:VEVENT

END:VCALENDAR
