BEGIN:VCALENDAR
VERSION:2.0
PRODID:-//ChamberMaster//Event Calendar 2.0//EN
METHOD:PUBLISH
X-PUBLISHED-TTL:P3D
REFRESH-INTERVAL:P3D
CALSCALE:GREGORIAN
BEGIN:VEVENT
DTSTART:20131127T153000Z
DTEND:20131127T163000Z
X-MICROSOFT-CDO-ALLDAYEVENT:FALSE
SUMMARY:No Business@Breakfast - Due to the Thanksgiving Holiday
DESCRIPTION:Due to the Holiday there will be no Business@Breakfast meeting\, see you all on Dec. 4th
X-ALT-DESC;FMTTYPE=text/html:<p class="MsoNormal">\n	<span style="font-family:verdana\;"><strong>Due to the Holiday there will be no Business@Breakfast meeting\, see you all on Dec. 4<sup>th</sup></strong></span><o:p></o:p></p>\n
LOCATION:Chamber Office 13150 7th Street\, Chino
UID:e.1511.469
SEQUENCE:3
DTSTAMP:20260421T211518Z
URL:https://business.chinovalleychamber.com/events/details/no-business-breakfast-due-to-the-thanksgiving-holiday-11-27-2013-469
END:VEVENT

END:VCALENDAR
