BEGIN:VCALENDAR
VERSION:2.0
PRODID:-//ChamberMaster//Event Calendar 2.0//EN
METHOD:PUBLISH
X-PUBLISHED-TTL:P3D
REFRESH-INTERVAL:P3D
CALSCALE:GREGORIAN
BEGIN:VEVENT
DTSTART:20131027T140000Z
DTEND:20131027T220000Z
X-MICROSOFT-CDO-ALLDAYEVENT:FALSE
SUMMARY:MKSMITH "2ND TO NONE" 1st Annual Car Show
DESCRIPTION:MKSMITH\n\n"2ND TO NONE"\n\n1st Annual Car Show\n\n\n\nProceeds Benefit:"Making Strides Against Breast Cancer"\n\n50/50 Raffle - Awards @ 1:00 P.M.
X-ALT-DESC;FMTTYPE=text/html:<strong><strong><strong><strong><strong><strong><strong><strong><strong><strong><strong><strong><strong><strong><strong><strong><strong><strong><strong><strong><strong><strong><strong><strong><strong><strong><strong><strong><strong><strong><strong><strong><strong><strong><strong><strong><strong><strong><strong><strong><strong><strong><strong><strong><strong><strong><strong><strong><strong><strong><strong><strong><strong><strong><strong><strong><strong><strong><strong><strong><strong><strong><strong><strong><strong><strong><strong><strong><strong><strong><strong><strong><strong><strong><strong><strong><strong><strong><strong><strong><strong><strong><strong><strong><strong><strong><strong><strong><strong><strong><strong><strong><strong><strong><strong><strong><strong><strong><strong><strong><strong><strong><strong><strong><strong><strong><strong><strong><strong><strong><strong><strong><strong><strong><strong><strong><strong><strong><strong><strong><strong><strong><strong><strong><strong><strong><strong><strong><strong><strong><strong><strong><strong><strong><strong><strong><strong><strong><strong><strong><strong><strong><strong><strong><strong><strong><strong><strong><strong><strong><strong><strong><strong><strong><strong><strong><strong><strong><strong><strong><strong><strong><strong><strong><strong><strong><strong><strong><strong><strong><strong><strong><strong><strong><strong><strong><strong><strong><strong><strong><strong><strong><strong><strong><strong><strong><strong><strong><strong><strong><strong><strong><strong><strong><strong><strong><strong><strong><strong><strong><strong><strong><strong><strong><strong><strong><strong><strong><strong><strong><strong><strong><strong><strong><strong><strong><strong><strong><strong><strong><strong><strong><strong><strong><strong><strong><strong><strong><strong><strong><strong><strong><strong><strong><strong><strong><strong><strong><strong><strong><strong><strong><strong><strong><strong><strong><strong><strong><strong><strong><strong><strong><strong><strong><strong><strong><strong><strong><strong><strong><strong><strong><strong><strong><strong><strong><strong><strong><strong><strong><strong><strong><strong><strong><strong><strong><strong><strong><strong><strong><strong><strong><strong><strong><strong><strong><strong><strong><strong><strong><strong><strong><strong><strong><strong><strong><strong><strong><strong><strong><strong><strong><strong><strong><strong><strong><strong><strong><strong><strong><strong><strong><strong><strong><strong><strong><strong><strong><strong><strong><strong><strong><strong><strong><strong><strong><strong><strong><strong><strong><strong><strong><strong><strong><strong><strong><strong><strong><strong><strong><strong><strong><strong><strong><strong><strong><strong><strong><strong><strong><strong><strong><strong><strong><strong><strong><strong><strong><strong><strong><strong><strong><strong><strong><strong><strong><strong><strong><strong><strong><strong><strong><strong><strong><strong><strong><strong><strong><strong><strong><strong><strong><strong><strong><strong><strong><strong><strong><strong><strong><strong><strong><strong><strong><strong><strong><strong><strong><strong><strong><strong><strong><strong><strong><strong><strong><strong><strong><strong><strong><strong><strong><strong><strong><strong><strong><strong><strong><strong><strong><strong><strong><strong><strong><strong><strong><strong><strong><strong><strong><strong><strong><strong><strong><strong><strong><strong><strong><strong><strong><strong><strong><strong><strong><strong><strong><strong><strong><strong><strong><strong><strong><strong><strong><strong><strong><strong><strong><strong><strong><strong><strong><strong><strong><strong><strong><strong><strong><strong><strong><strong><strong><strong><strong><strong><strong><strong><strong><strong><strong><strong><strong><strong><strong><strong><strong><strong><strong><strong><strong><strong><strong><strong><strong><strong><strong><strong><strong><span style="color: rgb(255\, 0\, 0)\;">MK</span><span style="color: rgb(0\, 0\, 205)\;">SMITH</span></strong></strong></strong></strong></strong></strong></strong></strong></strong></strong></strong></strong></strong></strong></strong></strong></strong></strong></strong></strong></strong></strong></strong></strong></strong></strong></strong></strong></strong></strong></strong></strong></strong></strong></strong></strong></strong></strong></strong></strong></strong></strong></strong></strong></strong></strong></strong></strong></strong></strong></strong></strong></strong></strong></strong></strong></strong></strong></strong></strong></strong></strong></strong></strong></strong></strong></strong></strong></strong></strong></strong></strong></strong></strong></strong></strong></strong></strong></strong></strong></strong></strong></strong></strong></strong></strong></strong></strong></strong></strong></strong></strong></strong></strong></strong></strong></strong></strong></strong></strong></strong></strong></strong></strong></strong></strong></strong></strong></strong></strong></strong></strong></strong></strong></strong></strong></strong></strong></strong></strong></strong></strong></strong></strong></strong></strong></strong></strong></strong></strong></strong></strong></strong></strong></strong></strong></strong></strong></strong></strong></strong></strong></strong></strong></strong></strong></strong></strong></strong></strong></strong></strong></strong></strong></strong></strong></strong></strong></strong></strong></strong></strong></strong></strong></strong></strong></strong></strong></strong></strong></strong></strong></strong></strong></strong></strong></strong></strong></strong></strong></strong></strong></strong></strong></strong></strong></strong></strong></strong></strong></strong></strong></strong></strong></strong></strong></strong></strong></strong></strong></strong></strong></strong></strong></strong></strong></strong></strong></strong></strong></strong></strong></strong></strong></strong></strong></strong></strong></strong></strong></strong></strong></strong></strong></strong></strong></strong></strong></strong></strong></strong></strong></strong></strong></strong></strong></strong></strong></strong></strong></strong></strong></strong></strong></strong></strong></strong></strong></strong></strong></strong></strong></strong></strong></strong></strong></strong></strong></strong></strong></strong></strong></strong></strong></strong></strong></strong></strong></strong></strong></strong></strong></strong></strong></strong></strong></strong></strong></strong></strong></strong></strong></strong></strong></strong></strong></strong></strong></strong></strong></strong></strong></strong></strong></strong></strong></strong></strong></strong></strong></strong></strong></strong></strong></strong></strong></strong></strong></strong></strong></strong></strong></strong></strong></strong></strong></strong></strong></strong></strong></strong></strong></strong></strong></strong></strong></strong></strong></strong></strong></strong></strong></strong></strong></strong></strong></strong></strong></strong></strong></strong></strong></strong></strong></strong></strong></strong></strong></strong></strong></strong></strong></strong></strong></strong></strong></strong></strong></strong></strong></strong></strong></strong></strong></strong></strong></strong></strong></strong></strong></strong></strong></strong></strong></strong></strong></strong></strong></strong></strong></strong></strong></strong></strong></strong></strong></strong></strong></strong></strong></strong></strong></strong></strong></strong></strong></strong></strong></strong></strong></strong></strong></strong></strong></strong></strong></strong></strong></strong></strong></strong></strong></strong></strong></strong></strong></strong></strong></strong></strong></strong></strong></strong></strong></strong></strong></strong></strong></strong></strong></strong></strong></strong></strong></strong></strong></strong></strong></strong></strong></strong></strong></strong></strong></strong></strong></strong></strong></strong></strong></strong></strong></strong></strong></strong></strong></strong></strong></strong></strong></strong></strong></strong></strong></strong></strong></strong></strong></strong></strong></strong></strong></strong></strong></strong></strong></strong></strong></strong></strong></strong></strong></strong></strong></strong></strong></strong></strong></strong></strong></strong></strong></strong></strong></strong></strong></strong><br />\n<span style="color: rgb(255\, 215\, 0)\;">&quot\;</span><span style="color: rgb(218\, 165\, 32)\;">2ND TO NONE&quot\;</span></strong><br />\n1st Annual Car Show<br />\n<br />\nProceeds Benefit:&quot\;<u>Making Strides Against Breast Cancer</u>&quot\;<br />\n50/50 Raffle - Awards @ 1:00 P.M.
LOCATION:MK Smith 12845 Central Ave.\, Chino (Corner of Central & Riverside Dr.)
UID:e.1511.427
SEQUENCE:3
DTSTAMP:20260421T211243Z
URL:https://business.chinovalleychamber.com/events/details/mksmith-2nd-to-none-1st-annual-car-show-10-27-2013-427
END:VEVENT

END:VCALENDAR
