BEGIN:VCALENDAR
VERSION:2.0
PRODID:-//ChamberMaster//Event Calendar 2.0//EN
METHOD:PUBLISH
X-PUBLISHED-TTL:P3D
REFRESH-INTERVAL:P3D
CALSCALE:GREGORIAN
BEGIN:VEVENT
DTSTART:20131215T190000Z
DTEND:20131216T000000Z
X-MICROSOFT-CDO-ALLDAYEVENT:FALSE
SUMMARY:MK SMITH - White Winter Wonderland
DESCRIPTION:MK SMITH - White Winter Wonderland\n\n\n\nCome and take a free picture with Santa Claus at M.K. Smith Chevrolet in our newly remodeled showroom - Bring your own camera\n\n\n\nLive performance by: SAGE MONTCLAIR - 1:00 PM - 2:00 PM \n\n\n\nWe are a Toys for Tots Collection Site
X-ALT-DESC;FMTTYPE=text/html:<span style="font-size:14px\;"><strong><span style="color:#ff0000\;">MK</span> <span style="color:#0000cd\;">SMITH</span></strong> - <span style="font-family:verdana\;"><em><strong><span style="color:#ff0000\;">White Winter Wonderland</span></strong></em></span></span><br />\n<br />\nCome and take a free picture with Santa Claus at M.K. Smith Chevrolet in our newly remodeled showroom - Bring your own camera<br />\n<br />\n<strong>Live performance by: <span style="color:#008000\;">SAGE MONTCLAIR </span>- 1:00 PM - 2:00 PM&nbsp\;</strong><br />\n<br />\n<strong>We are a <span style="color:#ff0000\;">Toys for Tots</span> Collection Site</strong><br />\n<br />\n<br />\n<br />\n
LOCATION:MK SMITH Chevrolet 12845 Central Ave.\, Chino (Corner of Central Ave. & Riverside Dr.)
UID:e.1511.468
SEQUENCE:3
DTSTAMP:20260421T182241Z
URL:https://business.chinovalleychamber.com/events/details/mk-smith-white-winter-wonderland-12-15-2013-468
END:VEVENT

END:VCALENDAR
