BEGIN:VCALENDAR
VERSION:2.0
PRODID:-//ChamberMaster//Event Calendar 2.0//EN
METHOD:PUBLISH
X-PUBLISHED-TTL:P3D
REFRESH-INTERVAL:P3D
CALSCALE:GREGORIAN
BEGIN:VEVENT
DTSTART:20130209T030000Z
DTEND:20130209T070000Z
X-MICROSOFT-CDO-ALLDAYEVENT:FALSE
SUMMARY:Mardi Gras
DESCRIPTION:A Fundraiser to benefit the local Schools of Chino Valley
X-ALT-DESC;FMTTYPE=text/html:A Fundraiser to benefit&nbsp\;the local Schools of Chino Valley
LOCATION:Vellano Country Club 2441 Vellano Club Drive Chino Hills\, CA 91709
UID:e.1511.4
SEQUENCE:3
DTSTAMP:20260422T084631Z
URL:https://business.chinovalleychamber.com/events/details/mardi-gras-02-08-2013-4
END:VEVENT

END:VCALENDAR
