BEGIN:VCALENDAR
VERSION:2.0
PRODID:-//ChamberMaster//Event Calendar 2.0//EN
METHOD:PUBLISH
X-PUBLISHED-TTL:P3D
REFRESH-INTERVAL:P3D
CALSCALE:GREGORIAN
BEGIN:VEVENT
DTSTART:20140508T010000Z
DTEND:20140508T020000Z
X-MICROSOFT-CDO-ALLDAYEVENT:FALSE
SUMMARY:Make-A-Wish Volunteer Information Session
DESCRIPTION:This hour-long session will cover: Overview of our organization and Volunteer Services Program Detailed steps of the volunteer assignment process and opportunities Continued education and specialized roles - steps required for Wish Granting and Speaker's Bureau We hope to see you there!
X-ALT-DESC;FMTTYPE=text/html:This hour-long session will cover: Overview of our organization and Volunteer Services Program Detailed steps of the volunteer assignment process and opportunities Continued education and specialized roles - steps required for Wish Granting and Speaker&#39\;s Bureau We hope to see you there! 
LOCATION:Make-A-Wish Inland Empire Office
UID:e.1511.535
SEQUENCE:3
DTSTAMP:20260421T110424Z
URL:https://business.chinovalleychamber.com/events/details/make-a-wish-volunteer-information-session-05-07-2014-535
END:VEVENT

END:VCALENDAR
