BEGIN:VCALENDAR
VERSION:2.0
PRODID:-//ChamberMaster//Event Calendar 2.0//EN
METHOD:PUBLISH
X-PUBLISHED-TTL:P3D
REFRESH-INTERVAL:P3D
CALSCALE:GREGORIAN
BEGIN:VEVENT
DTSTART:20130609T160000Z
DTEND:20130609T200000Z
X-MICROSOFT-CDO-ALLDAYEVENT:FALSE
SUMMARY:Lusco-American Fraternal Federation 4th Annual Car Show
DESCRIPTION:Lusco - American Fraternal Federation 4th Annual Car Show
X-ALT-DESC;FMTTYPE=text/html:Lusco - American Fraternal Federation 4th Annual Car Show
LOCATION:Chino D.E.S. Hall 5216 Riverside Dr.\, Chino
UID:e.1511.318
SEQUENCE:3
DTSTAMP:20260422T042751Z
URL:https://business.chinovalleychamber.com/events/details/lusco-american-fraternal-federation-4th-annual-car-show-06-09-2013-318
END:VEVENT

END:VCALENDAR
