BEGIN:VCALENDAR
VERSION:2.0
PRODID:-//ChamberMaster//Event Calendar 2.0//EN
METHOD:PUBLISH
X-PUBLISHED-TTL:P3D
REFRESH-INTERVAL:P3D
CALSCALE:GREGORIAN
BEGIN:VEVENT
DTSTART:20130424T010000Z
DTEND:20130424T023000Z
X-MICROSOFT-CDO-ALLDAYEVENT:FALSE
SUMMARY:Loving Savior School's Open House/History Fair
DESCRIPTION:Loving Savior School's Open House / History Fair\n\nClassrooms open from 6:00 PM - 7:30 PM\, Grades K - 8\n\nCome by and check out the great work and projects the students have done this year. Come meet the teachers
X-ALT-DESC;FMTTYPE=text/html:Loving Savior School&#39\;s Open House / History Fair<br />\nClassrooms open from 6:00 PM - 7:30 PM\, Grades K - 8<br />\nCome by and check out the great work and projects the students have done this year. Come meet the teachers
LOCATION:Loving Savior School 14816 Peyton Dr.\, Chino Hills\,
UID:e.1511.290
SEQUENCE:3
DTSTAMP:20260422T055749Z
URL:https://business.chinovalleychamber.com/events/details/loving-savior-school-s-open-house-history-fair-04-23-2013-290
END:VEVENT

END:VCALENDAR
