BEGIN:VCALENDAR
VERSION:2.0
PRODID:-//ChamberMaster//Event Calendar 2.0//EN
METHOD:PUBLISH
X-PUBLISHED-TTL:P3D
REFRESH-INTERVAL:P3D
CALSCALE:GREGORIAN
BEGIN:VEVENT
DTSTART:20130310T180000Z
DTEND:20130310T220000Z
X-MICROSOFT-CDO-ALLDAYEVENT:FALSE
SUMMARY:Los Serranos Country Club Bridal Show
DESCRIPTION:Bridal Show\, vendor booths\, music and food.
X-ALT-DESC;FMTTYPE=text/html:Bridal Show\, vendor booths\, music and food.
LOCATION:15656 Yorba Ave.\, Chino Hills\, CA 91709
UID:e.1511.47
SEQUENCE:3
DTSTAMP:20260422T085444Z
URL:https://business.chinovalleychamber.com/events/details/los-serranos-country-club-bridal-show-03-10-2013-47
END:VEVENT

END:VCALENDAR
