BEGIN:VCALENDAR
VERSION:2.0
PRODID:-//ChamberMaster//Event Calendar 2.0//EN
METHOD:PUBLISH
X-PUBLISHED-TTL:P3D
REFRESH-INTERVAL:P3D
CALSCALE:GREGORIAN
BEGIN:VEVENT
DTSTART:20130606T000000Z
DTEND:20130606T010000Z
X-MICROSOFT-CDO-ALLDAYEVENT:FALSE
SUMMARY:Locks of Love Event at Giovanni's Salon\, Spa & Supplies
DESCRIPTION:Our Locks of Love event is coming to Giovanni's Salon and Spa on Wednesday evening\, June 5th\, 2013! This is one of our favorite ways to be involved in our community for a greater cause.  \n\n \n\nLocks of Love is a non-profit organization that provides hairpieces to financially disadvantaged children under age 21 in the U.S. and Canada who are suffering from long-term medical hair loss from any diagnosis. They meet a unique need for children by using donated human hair to create the highest quality hair prosthetics. The prostheses they provide help to restore self-esteem and confidence\, enabling these children to face the world and their peers.\n\n \n\nIt warms our hearts to see children and adults come in to Giovanni's Salon and Spa to donate their beautiful hair that they have lovingly grown. We are pleased to be able to donate their 10" ponytail or braid directly to Locks of Love. They accept curly\, grey\, colored or permed hair\, but not bleached or highlighted due to potential reactions. Interesting fact: Hairpieces require between 6-10 ponytails and take approximately 4-6 months to manufacture.\n\nAs a participating Locks of Love salon\, Giovanni's treats the donors to 50% off their new style including shampoo with conditioning scalp massage\, haircut\, blow-dry and styling.\n\nWe look forward to seeing you on Wednesday\, June 5th for Giovanni's Locks of Love event!
X-ALT-DESC;FMTTYPE=text/html:<span style="font-family: times new roman\, serif\;"><span style="font-size: medium\;">Our Locks of Love event is coming to Giovanni&rsquo\;s Salon and Spa on Wednesday evening\, June 5<sup><span style="font-size: small\;">th</span></sup></span>\, 2013! This is one of our favorite ways to be involved in our community for a greater cause.&nbsp\; </span><br />\n&nbsp\;<br />\n<span style="font-family: times new roman\, serif\;"><span style="font-size: medium\;">Locks of Love is a non-profit organization that provides hairpieces to financially disadvantaged children under age 21 in the U.S. and Canada who are suffering from long-term medical hair loss from any diagnosis. They meet a unique need for children by using donated human hair to create the highest quality hair prosthetics. The prostheses they provide help to restore self-esteem and confidence\, enabling these children to face the world and their peers.</span></span><br />\n&nbsp\;<br />\n<span style="font-size: 12pt\;"><span style="font-family: times new roman\, serif\;">It warms our hearts to see children and adults come in to Giovanni&rsquo\;s Salon and Spa to donate their beautiful hair that they have lovingly grown. We are pleased to be able to donate their 10&rdquo\; ponytail or braid directly to Locks of Love. They accept curly\, grey\, colored or permed hair\, but not bleached or highlighted due to potential reactions. Interesting fact: H</span></span><span style="font-size: 12pt\;"><span style="color: black\;"><span style="font-family: times new roman\, serif\;">airpieces require between 6-10 ponytails and take approximately 4-6 months to manufacture.</span></span></span><br />\n<span style="font-size: 12pt\;"><span style="color: black\;"><span style="font-family: times new roman\, serif\;">As a participating Locks of Love salon\, Giovanni&rsquo\;s treats the donors to 50% off their new style including shampoo with conditioning scalp massage\, haircut\, blow-dry and styling.</span></span></span><br />\n<span style="font-size: 12pt\;"><span style="color: black\;"><span style="font-family: times new roman\, serif\;">We look forward to seeing you on Wednesday\, June 5<sup>th</sup> for Giovanni&rsquo\;s Locks of Love event!</span></span></span><br />\n
LOCATION:Giovanni's Salon & Spa\, 15938 Los Serranos County Club #C\, Chino Hills
UID:e.1511.313
SEQUENCE:3
DTSTAMP:20260422T025115Z
URL:https://business.chinovalleychamber.com/events/details/locks-of-love-event-at-giovanni-s-salon-spa-supplies-06-05-2013-313
END:VEVENT

END:VCALENDAR
