BEGIN:VCALENDAR
VERSION:2.0
PRODID:-//ChamberMaster//Event Calendar 2.0//EN
METHOD:PUBLISH
X-PUBLISHED-TTL:P3D
REFRESH-INTERVAL:P3D
CALSCALE:GREGORIAN
BEGIN:VEVENT
DTSTART:20131213T180000Z
DTEND:20131213T190000Z
X-MICROSOFT-CDO-ALLDAYEVENT:FALSE
SUMMARY:Liberty Tax Service - Free QuickBooks Seminar
DESCRIPTION:Bill and Donna Edman of Liberty Tax Service are pleased to offer a FREE QuickBooks Seminar presented by Kathleen Ries-Jubenville of Debits an Credits Service Co.
X-ALT-DESC;FMTTYPE=text/html:Bill and Donna Edman of Liberty Tax Service are pleased to offer a FREE QuickBooks Seminar presented by Kathleen Ries-Jubenville of Debits an Credits Service Co.
LOCATION:Liberty Tax Service 3280 Chino Hills Pkwy #5\, Chino Hills
UID:e.1511.489
SEQUENCE:3
DTSTAMP:20260421T194051Z
URL:https://business.chinovalleychamber.com/events/details/liberty-tax-service-free-quickbooks-seminar-12-13-2013-489
END:VEVENT

END:VCALENDAR
