BEGIN:VCALENDAR
VERSION:2.0
PRODID:-//ChamberMaster//Event Calendar 2.0//EN
METHOD:PUBLISH
X-PUBLISHED-TTL:P3D
REFRESH-INTERVAL:P3D
CALSCALE:GREGORIAN
BEGIN:VEVENT
DTSTART:20130918T010000Z
DTEND:20130918T040000Z
X-MICROSOFT-CDO-ALLDAYEVENT:FALSE
SUMMARY:Liberty Income Tax - Become a Tax Scholar
DESCRIPTION:Gear Up for Tax School - Become a Tax Scholar\n\n\n\nIt's All Academic!\n\nLearn a Marketable Skill\n\nDecode the Tax Code\n\nEarn Extra Income\n\n\n\nRegister Now!\n\n\n\nWe offer opportunity for employment to our top students!
X-ALT-DESC;FMTTYPE=text/html:Gear Up for Tax School - Become a Tax Scholar<br />\n<br />\nIt&#39\;s All Academic!<br />\nLearn a Marketable Skill<br />\nDecode the Tax Code<br />\n<span style="color: rgb(0\, 0\, 255)\;">Earn Extra Income</span><br />\n<br />\n<span style="color: rgb(255\, 0\, 0)\;">Register Now!</span><br />\n<br />\n<span style="color: rgb(255\, 0\, 0)\;">We offer opportunity for employment to our top students!</span><br />\n<br />\n
LOCATION:3280 Chino Hills Parkway #5\, Chino Hills (CVS Center at Peyton Drive)
UID:e.1511.425
SEQUENCE:3
DTSTAMP:20260421T235525Z
URL:https://business.chinovalleychamber.com/events/details/liberty-income-tax-become-a-tax-scholar-09-17-2013-425
END:VEVENT

END:VCALENDAR
