BEGIN:VCALENDAR
VERSION:2.0
PRODID:-//ChamberMaster//Event Calendar 2.0//EN
METHOD:PUBLISH
X-PUBLISHED-TTL:P3D
REFRESH-INTERVAL:P3D
CALSCALE:GREGORIAN
BEGIN:VEVENT
DTSTART:20130511T190000Z
DTEND:20130511T190000Z
X-MICROSOFT-CDO-ALLDAYEVENT:FALSE
SUMMARY:Let It Be 7th Annual 5K+ Walk/Run
DESCRIPTION:Let it Be Annual 5K+ Run/Walk
X-ALT-DESC;FMTTYPE=text/html:Let it Be Annual 5K+ Run/Walk
LOCATION:Start & Finish at Chino Hills High School
UID:e.1511.271
SEQUENCE:3
DTSTAMP:20260422T055535Z
URL:https://business.chinovalleychamber.com/events/details/let-it-be-7th-annual-5k-walk-run-05-11-2013-271
END:VEVENT

END:VCALENDAR
