BEGIN:VCALENDAR
VERSION:2.0
PRODID:-//ChamberMaster//Event Calendar 2.0//EN
METHOD:PUBLISH
X-PUBLISHED-TTL:P3D
REFRESH-INTERVAL:P3D
CALSCALE:GREGORIAN
BEGIN:VEVENT
DTSTART:20140125T023000Z
DTEND:20140125T040000Z
X-MICROSOFT-CDO-ALLDAYEVENT:FALSE
SUMMARY:Ladies Night Out at On A Mission Korean Karate Center
DESCRIPTION:Ladies Night Out - On A Mission Korean Karate Center \n\n\n	\n		Develop your awareness\n	\n		Safety strategies\n	\n		Hands on practice\n	\n		Women owned businesses\n	\n		Wine and hors d'oeuvres served
X-ALT-DESC;FMTTYPE=text/html:<br />\n<strong><span style="color: rgb(128\, 0\, 128)\;">Ladies Night Out -&nbsp\;</span><span style="color:#800080\;">On A Mission Korean Karate Center&nbsp\;</span></strong><br />\n<ul>\n	<li>\n		<strong>Develop your awareness</strong></li>\n	<li>\n		<strong>Safety strategies</strong></li>\n	<li>\n		<strong>Hands on practice</strong></li>\n	<li>\n		<strong>Women owned businesses</strong></li>\n	<li>\n		<strong>Wine and hors d&#39\;oeuvres&nbsp\;served</strong></li>\n</ul>\n
LOCATION:On A Mission Korean Karate Center 3560 Grand Ave.\, Ste. D\, Chino Hills
UID:e.1511.511
SEQUENCE:3
DTSTAMP:20260421T182659Z
URL:https://business.chinovalleychamber.com/events/details/ladies-night-out-at-on-a-mission-korean-karate-center-01-24-2014-511
END:VEVENT

END:VCALENDAR
