BEGIN:VCALENDAR
VERSION:2.0
PRODID:-//ChamberMaster//Event Calendar 2.0//EN
METHOD:PUBLISH
X-PUBLISHED-TTL:P3D
REFRESH-INTERVAL:P3D
CALSCALE:GREGORIAN
BEGIN:VEVENT
DTSTART:20130322T000000Z
DTEND:20130322T020000Z
X-MICROSOFT-CDO-ALLDAYEVENT:FALSE
SUMMARY:La Creperie Cafe\, Bohemian Bistro & Bar Mixer
DESCRIPTION:Mixer/Chamber Event
X-ALT-DESC;FMTTYPE=text/html:Mixer/Chamber&nbsp\;Event
LOCATION:La Creperie Cafe\, Bohemian Bistro & Bar 3968 Grand Ave.\, Chino 91710
UID:e.1511.18
SEQUENCE:3
DTSTAMP:20260422T072855Z
URL:https://business.chinovalleychamber.com/events/details/la-creperie-cafe-bohemian-bistro-bar-mixer-03-21-2013-18
END:VEVENT

END:VCALENDAR
