BEGIN:VCALENDAR
VERSION:2.0
PRODID:-//ChamberMaster//Event Calendar 2.0//EN
METHOD:PUBLISH
X-PUBLISHED-TTL:P3D
REFRESH-INTERVAL:P3D
CALSCALE:GREGORIAN
BEGIN:VEVENT
DTSTART;VALUE=DATE:20130920
DTEND;VALUE=DATE:20130921
TRANSP:TRANSPARENT
X-MICROSOFT-CDO-ALLDAYEVENT:TRUE
SUMMARY:L.A. County Fair - Chino Hills Day at the Fair & Business Expo
DESCRIPTION:Chino Hills Day at the Fair & Business Expo\n\nCome and Celebrate Your Community!\n\nJoin us as we honor our neighboring cities in the 2013 L.A. County Fair's Community Days Program! During the run of the Fair\, we will be celebrating special cities with a personalized horse race\, an afternoon reception featuring award-winning wines\, a festive parade and a Community Hero presentation recognizing dedicated citizens who are quietly making a difference. Support your hometown's Day at the Fair by participating in the 2013 FairKids or Business Expo!
X-ALT-DESC;FMTTYPE=text/html:<strong><span style="color: rgb(255\, 0\, 0)\;">Chino Hills Day at the Fair &amp\; Business Expo<br />\nCome and Celebrate Your Community!</span></strong><br />\nJoin us as we honor our neighboring cities in the 2013 L.A. County Fair&#39\;s Community Days Program! During the run of the Fair\, we will be celebrating special cities with a personalized horse race\, an afternoon reception featuring award-winning wines\, a festive parade and a Community Hero presentation recognizing dedicated citizens who are quietly making a difference. Support your hometown&#39\;s Day at the Fair by participating in the 2013&nbsp\;FairKids or Business Expo!
LOCATION:L.A. County Fair 1101 W. McKinley Ave.\, Pomona\, CA 91768
UID:e.1511.402
SEQUENCE:3
DTSTAMP:20260421T223501Z
URL:https://business.chinovalleychamber.com/events/details/l-a-county-fair-chino-hills-day-at-the-fair-business-expo-09-20-2013-402
END:VEVENT

END:VCALENDAR
