BEGIN:VCALENDAR
VERSION:2.0
PRODID:-//ChamberMaster//Event Calendar 2.0//EN
METHOD:PUBLISH
X-PUBLISHED-TTL:P3D
REFRESH-INTERVAL:P3D
CALSCALE:GREGORIAN
BEGIN:VEVENT
DTSTART:20241204T000000Z
DTEND:20241203T200000Z
X-MICROSOFT-CDO-ALLDAYEVENT:FALSE
SUMMARY:Jr. Career Leaders Academy
DESCRIPTION:The Junior Career Leaders Academy is a unique and highly beneficial experience for students in grades 3rd through 4th. Students will engage with city officials\, explore various local businesses & careers\, connect with fellow student leaders\, and learn about exciting initiatives in the Chino Valley. Additionally\, they will develop valuable soft skills that will set them up for future success.\n\n\n\nMost sessions will take place at the Chino Valley Chamber of Commerce unless otherwise noted in advance. Sessions will be held on the 1st and 3rd Tuesday of each month for 10 months\, from September to May\, with the final session in July featuring a certificate presentation.\n\n\n\nApply Here:\n\nhttps://forms.gle/nibfNyqBXMqQoDj39\n\n\n\nOnce you apply and are accepted\, you can register and proceed with payment for the program.
X-ALT-DESC;FMTTYPE=text/html:<div class="elementToProof" style="border: 0px\; font-variant-numeric: inherit\; font-variant-east-asian: inherit\; font-variant-alternates: inherit\; font-variant-position: inherit\; font-stretch: inherit\; line-height: inherit\; font-optical-sizing: inherit\; font-kerning: inherit\; font-feature-settings: inherit\; font-variation-settings: inherit\; margin: 0px\; padding: 0px\; vertical-align: baseline\;">\n<div class="elementToProof" style="color: rgb(0\, 0\, 0)\; font-family: Aptos\, Aptos_EmbeddedFont\, Aptos_MSFontService\, Calibri\, Helvetica\, sans-serif\; font-size: 12pt\; box-sizing: border-box\; border: 0px\; font-variant-numeric: inherit\; font-variant-east-asian: inherit\; font-variant-alternates: inherit\; font-variant-position: inherit\; font-stretch: inherit\; line-height: inherit\; font-optical-sizing: inherit\; font-kerning: inherit\; font-feature-settings: inherit\; font-variation-settings: inherit\; margin: 0px\; padding: 0px\; vertical-align: baseline\;"><span style="font-size:14px\;"><span style="font-family:arial\;"><span style="color: rgb(32\, 33\, 36)\;">The Junior Career Leaders Academy</span><span style="color: rgb(32\, 33\, 36)\; white-space-collapse: preserve\;"> is a unique and highly beneficial experience for students in grades 3rd through 4th. Students will engage with city officials\, explore various local businesses &amp\; careers\, connect with fellow student leaders\, and learn about exciting initiatives in the Chino Valley. Additionally\, they will develop valuable soft skills that will set them up for future success.</span></span></span><br />\n<br />\n<strong>Most sessions will take place at the Chino Valley Chamber of Commerce unless otherwise noted in advance. Sessions will be held on the 1st and 3rd Tuesday of each month for 10 months\, from September to May\, with the final session in July featuring a certificate presentation.<br />\n<br />\nApply Here:</strong><br />\n<a href="https://forms.gle/nibfNyqBXMqQoDj39">https://forms.gle/nibfNyqBXMqQoDj39</a><br />\n<br />\n<strong>Once you apply and are accepted\, you can register and proceed with payment for the program.</strong></div>\n</div>\n
LOCATION:
UID:e.1511.6284
SEQUENCE:3
DTSTAMP:20260420T072022Z
URL:https://business.chinovalleychamber.com/events/details/jr-career-leaders-academy-12-03-2024-6284
END:VEVENT

END:VCALENDAR
